BEGIN:VCALENDAR
VERSION:2.0
PRODID:-//Port of Melbourne Briefing//EN
CALSCALE:GREGORIAN
METHOD:PUBLISH
X-WR-CALNAME:Bay Anchorage — Ships
X-WR-TIMEZONE:Australia/Melbourne
BEGIN:VTIMEZONE
TZID:Australia/Melbourne
BEGIN:DAYLIGHT
TZOFFSETFROM:+1000
TZOFFSETTO:+1100
TZNAME:AEDT
DTSTART:19701004T020000
RRULE:FREQ=YEARLY;BYDAY=1SU;BYMONTH=10
END:DAYLIGHT
BEGIN:STANDARD
TZOFFSETFROM:+1100
TZOFFSETTO:+1000
TZNAME:AEST
DTSTART:19700405T030000
RRULE:FREQ=YEARLY;BYDAY=1SU;BYMONTH=4
END:STANDARD
END:VTIMEZONE
BEGIN:VEVENT
UID:2026-04-25-right-ocean-arr-bay-anchorage-outer@portmelbourne
DTSTART;TZID=Australia/Melbourne:20260425T033000
DTEND;TZID=Australia/Melbourne:20260428T235900
SUMMARY:Right Ocean ARR — Bay Anchorage Outer
DESCRIPTION:Arrival: 03:30 (2026-04-25)\nWharf: Bay Anchorage Outer\nFrom: Durban\nTrack: https://www.marinetraffic.com/en/ais/index/search/all/keyword:Right+Ocean\n(Departure outside data window)
URL:https://www.marinetraffic.com/en/ais/index/search/all/keyword:Right+Ocean
END:VEVENT
BEGIN:VEVENT
UID:2026-04-26-vibeke-iris-arr-bay-anchorage-outer@portmelbourne
DTSTART;TZID=Australia/Melbourne:20260426T053000
DTEND;TZID=Australia/Melbourne:20260428T235900
SUMMARY:Vibeke Iris ARR — Bay Anchorage Outer
DESCRIPTION:Arrival: 05:30 (2026-04-26)\nWharf: Bay Anchorage Outer\nFrom: Chiwan\nTrack: https://www.marinetraffic.com/en/ais/index/search/all/keyword:Vibeke+Iris\n(Departure outside data window)
URL:https://www.marinetraffic.com/en/ais/index/search/all/keyword:Vibeke+Iris
END:VEVENT
BEGIN:VEVENT
UID:2026-04-26-vibeke-iris-arr-bay-anchorage-outer@portmelbourne
DTSTART;TZID=Australia/Melbourne:20260426T083000
DTEND;TZID=Australia/Melbourne:20260428T235900
SUMMARY:Vibeke Iris ARR — Bay Anchorage Outer
DESCRIPTION:Arrival: 08:30 (2026-04-26)\nWharf: Bay Anchorage Outer\nFrom: Chiwan\nTrack: https://www.marinetraffic.com/en/ais/index/search/all/keyword:Vibeke+Iris\n(Departure outside data window)
URL:https://www.marinetraffic.com/en/ais/index/search/all/keyword:Vibeke+Iris
END:VEVENT
BEGIN:VEVENT
UID:2026-04-26-se-marina--sc--arr-bay-anchorage-outer@portmelbourne
DTSTART;TZID=Australia/Melbourne:20260426T113000
DTEND;TZID=Australia/Melbourne:20260428T235900
SUMMARY:SE Marina (SC) ARR — Bay Anchorage Outer
DESCRIPTION:Arrival: 11:30 (2026-04-26)\nWharf: Bay Anchorage Outer\nFrom: Portland\nTrack: https://www.marinetraffic.com/en/ais/index/search/all/keyword:SE+Marina+(SC)\n(Departure outside data window)
URL:https://www.marinetraffic.com/en/ais/index/search/all/keyword:SE+Marina+(SC)
END:VEVENT
BEGIN:VEVENT
UID:2026-04-26-pis-kerinci--t--arr-bay-anchorage-outer@portmelbourne
DTSTART;TZID=Australia/Melbourne:20260426T203000
DTEND;TZID=Australia/Melbourne:20260428T235900
SUMMARY:PIS Kerinci (T) ARR — Bay Anchorage Outer
DESCRIPTION:Arrival: 20:30 (2026-04-26)\nWharf: Bay Anchorage Outer\nFrom: Puerto Rosales/Bahia Blanca\nTrack: https://www.marinetraffic.com/en/ais/index/search/all/keyword:PIS+Kerinci+(T)\n(Departure outside data window)
URL:https://www.marinetraffic.com/en/ais/index/search/all/keyword:PIS+Kerinci+(T)
END:VEVENT
BEGIN:VEVENT
UID:2026-04-26-chem-cobalt--t--arr-bay-anchorage-inner@portmelbourne
DTSTART;TZID=Australia/Melbourne:20260426T233000
DTEND;TZID=Australia/Melbourne:20260428T235900
SUMMARY:Chem Cobalt (T) ARR — Bay Anchorage inner
DESCRIPTION:Arrival: 23:30 (2026-04-26)\nWharf: Bay Anchorage inner\nFrom: Adelaide\nTrack: https://www.marinetraffic.com/en/ais/index/search/all/keyword:Chem+Cobalt+(T)\n(Departure outside data window)
URL:https://www.marinetraffic.com/en/ais/index/search/all/keyword:Chem+Cobalt+(T)
END:VEVENT
BEGIN:VEVENT
UID:2026-04-27-southern-reverence--t--arr-bay-anchorage-outer@portmelbourne
DTSTART;TZID=Australia/Melbourne:20260427T073000
DTEND;TZID=Australia/Melbourne:20260428T235900
SUMMARY:Southern Reverence (T) ARR — Bay Anchorage Outer
DESCRIPTION:Arrival: 07:30 (2026-04-27)\nWharf: Bay Anchorage Outer\nFrom: Lingga  Sarawak\nTrack: https://www.marinetraffic.com/en/ais/index/search/all/keyword:Southern+Reverence+(T)\n(Departure outside data window)
URL:https://www.marinetraffic.com/en/ais/index/search/all/keyword:Southern+Reverence+(T)
END:VEVENT
BEGIN:VEVENT
UID:2026-04-28-golden-axis--t--arr-bay-anchorage-inner@portmelbourne
DTSTART;TZID=Australia/Melbourne:20260428T153000
DTEND;TZID=Australia/Melbourne:20260428T235900
SUMMARY:Golden Axis (T) ARR — Bay Anchorage inner
DESCRIPTION:Arrival: 15:30 (2026-04-28)\nWharf: Bay Anchorage inner\nFrom: Port Kembla\nTrack: https://www.marinetraffic.com/en/ais/index/search/all/keyword:Golden+Axis+(T)\n(Departure outside data window)
URL:https://www.marinetraffic.com/en/ais/index/search/all/keyword:Golden+Axis+(T)
END:VEVENT
END:VCALENDAR
